BEGIN:VCALENDAR
VERSION:2.0
PRODID:-//Next Steps Idaho - ECPv5.1.4//NONSGML v1.0//EN
CALSCALE:GREGORIAN
METHOD:PUBLISH
X-WR-CALNAME:Next Steps Idaho
X-ORIGINAL-URL:https://nextsteps.dev.s360.is
X-WR-CALDESC:Events for Next Steps Idaho
BEGIN:VTIMEZONE
TZID:America/Boise
BEGIN:DAYLIGHT
TZOFFSETFROM:-0700
TZOFFSETTO:-0600
TZNAME:MDT
DTSTART:20200308T090000
END:DAYLIGHT
BEGIN:STANDARD
TZOFFSETFROM:-0600
TZOFFSETTO:-0700
TZNAME:MST
DTSTART:20201101T080000
END:STANDARD
END:VTIMEZONE
BEGIN:VEVENT
DTSTART;TZID=America/Boise:20200127T180000
DTEND;TZID=America/Boise:20200127T200000
DTSTAMP:20260423T070334
CREATED:20200108T185904Z
LAST-MODIFIED:20200108T185904Z
UID:5710-1580148000-1580155200@nextsteps.dev.s360.is
SUMMARY:2020 ISU Info Night in Meridian
DESCRIPTION:Prospective students and their guests will receive an overview of academic program offerings\, university housing options\, and financial aid and scholarship opportunities. \nAdditionally\, interested students will have the opportunity to apply to Idaho State University during the event\, with assistance from Admissions personnel. \nThis event is open to high school students\, college transfer students\, as well as non-traditional students who are interested in attending Idaho State University. \n
URL:https://nextsteps.dev.s360.is/event/2020-isu-info-night-in-meridian/
LOCATION:Idaho State University; Meridian Campus\, 1311 E Central Dr\, Meridian\, ID\, 83642\, United States
CATEGORIES:College Fair,Open House Days
END:VEVENT
END:VCALENDAR