BEGIN:VCALENDAR
VERSION:2.0
PRODID:-//Next Steps Idaho - ECPv5.1.4//NONSGML v1.0//EN
CALSCALE:GREGORIAN
METHOD:PUBLISH
X-WR-CALNAME:Next Steps Idaho
X-ORIGINAL-URL:https://nextsteps.dev.s360.is
X-WR-CALDESC:Events for Next Steps Idaho
BEGIN:VTIMEZONE
TZID:America/Boise
BEGIN:DAYLIGHT
TZOFFSETFROM:-0700
TZOFFSETTO:-0600
TZNAME:MDT
DTSTART:20190310T090000
END:DAYLIGHT
BEGIN:STANDARD
TZOFFSETFROM:-0600
TZOFFSETTO:-0700
TZNAME:MST
DTSTART:20191103T080000
END:STANDARD
END:VTIMEZONE
BEGIN:VEVENT
DTSTART;TZID=America/Boise:20191017T083000
DTEND;TZID=America/Boise:20191017T143000
DTSTAMP:20260425T221849
CREATED:20190906T152252Z
LAST-MODIFIED:20190906T152252Z
UID:4843-1571301000-1571322600@nextsteps.dev.s360.is
SUMMARY:Eagle Exploration Days
DESCRIPTION:It’s never too early to find out if the College of Southern Idaho is the right fit for you. Join us for Eagle Exploration Days! This one-day campus visit event includes guided tours of campus & housing\, as well as information sessions on activities and opportunities\, such as honors\, outdoor recreation\, career tools\, among others. You will attend two information and hands on sessions in the major area of your choice. You can also meet with CSI representatives for information on how to apply for admission\, the financial aid process and much more. During Eagle Exploration Days you can experience our beautiful campus and get a preview of what it’s like to be a student here. \n
URL:https://nextsteps.dev.s360.is/event/eagle-exploration-days-2/
LOCATION:College of Southern Idaho\, 315 Falls Ave\, Twin Falls\, ID\, 83301\, United States
CATEGORIES:Open House Days
ATTACH;FMTTYPE=image/png:https://nextsteps.dev.s360.is/wp-content/uploads/2019/09/Eagle-Exploration-Days-logo.png
ORGANIZER;CN="Heather%20Barnes":MAILTO:hbarnes@csi.edu
END:VEVENT
BEGIN:VEVENT
DTSTART;TZID=America/Boise:20191017T100000
DTEND;TZID=America/Boise:20191017T140000
DTSTAMP:20260425T221849
CREATED:20190827T204751Z
LAST-MODIFIED:20190827T204800Z
UID:4795-1571306400-1571320800@nextsteps.dev.s360.is
SUMMARY:Next Steps Technical Roadshow
DESCRIPTION:Whether you are a pioneer or an experienced guide in career and education planning\, this technical roadshow will provide the know-how that will help you make the most of Idaho’s resources and advances in the field of career development. See how the Idaho State Board of Education is working to help Idaho’s students find their best future. \nEvent Information\nSign in at Student Union (SUB)\nParking: Instructions sent via email \n*All attendees\, please sign in between 9:45 a.m. and 10 a.m. at the specified location. \n
URL:https://nextsteps.dev.s360.is/event/next-steps-technical-roadshow-5/
LOCATION:Boise State University\, 1910 University Dr.\, Boise\, ID\, 83725
CATEGORIES:Educator Support,Career Exploration
ORGANIZER;CN="Idaho%20State%20Board%20of%20Education":MAILTO:Sara.Scudder@osbe.idaho.gov
END:VEVENT
BEGIN:VEVENT
DTSTART;TZID=America/Boise:20191017T180000
DTEND;TZID=America/Boise:20191017T193000
DTSTAMP:20260425T221849
CREATED:20190926T175642Z
LAST-MODIFIED:20191001T221710Z
UID:4942-1571335200-1571340600@nextsteps.dev.s360.is
SUMMARY:Boise - Next Steps Month
DESCRIPTION:Come learn all about your post-graduation options at Next Steps Month community events! These events will feature booths to explore\, tons of helpful tips and tricks\, and a prize drawing. \nHere’s the agenda for the events:\n· 6:00-6:15 Welcome\n· 6:15-7:30 Walk around booths\n· 7:30 IDeal 529 prize drawing \n
URL:https://nextsteps.dev.s360.is/event/boise-next-steps-month/
LOCATION:Boise State University – Student Union Building – Hatch Ballroom\, 1910 W University Dr\, Boise\, ID\, 83725
CATEGORIES:Career Exploration
ORGANIZER;CN="State%20Board%20of%20Education":MAILTO:Sara.Scudder@osbe.idaho.gov
END:VEVENT
END:VCALENDAR