BEGIN:VCALENDAR
VERSION:2.0
PRODID:-//Next Steps Idaho - ECPv5.1.4//NONSGML v1.0//EN
CALSCALE:GREGORIAN
METHOD:PUBLISH
X-WR-CALNAME:Next Steps Idaho
X-ORIGINAL-URL:https://nextsteps.dev.s360.is
X-WR-CALDESC:Events for Next Steps Idaho
BEGIN:VTIMEZONE
TZID:America/Boise
BEGIN:DAYLIGHT
TZOFFSETFROM:-0700
TZOFFSETTO:-0600
TZNAME:MDT
DTSTART:20200308T090000
END:DAYLIGHT
BEGIN:STANDARD
TZOFFSETFROM:-0600
TZOFFSETTO:-0700
TZNAME:MST
DTSTART:20201101T080000
END:STANDARD
END:VTIMEZONE
BEGIN:VEVENT
DTSTART;VALUE=DATE:20200125
DTEND;VALUE=DATE:20200126
DTSTAMP:20260422T041740
CREATED:20200110T173201Z
LAST-MODIFIED:20200110T173201Z
UID:5748-1579910400-1579996799@nextsteps.dev.s360.is
SUMMARY:Warrior Preview at Lewis-Clark State College
DESCRIPTION:Join other future Warriors as you get all the information you need about LC State at Warrior Preview. Check out the campus\, meet with professors in the program you’re interested in\, and see what current students love about being a Warrior! \nParents/family members are welcome to attend! \n
URL:https://nextsteps.dev.s360.is/event/warrior-preview-at-lewis-clark-state-college/
LOCATION:Lewis Clark State College\, 415 Main St\, Lewiston\, 83501
CATEGORIES:Open House Days
GEO:46.4217113;-117.0276589
X-APPLE-STRUCTURED-LOCATION;VALUE=URI;X-ADDRESS=Lewis Clark State College 415 Main St Lewiston 83501;X-APPLE-RADIUS=500;X-TITLE=415 Main St:geo:-117.0276589,46.4217113
END:VEVENT
END:VCALENDAR