BEGIN:VCALENDAR
VERSION:2.0
PRODID:-//Next Steps Idaho - ECPv5.1.4//NONSGML v1.0//EN
CALSCALE:GREGORIAN
METHOD:PUBLISH
X-WR-CALNAME:Next Steps Idaho
X-ORIGINAL-URL:https://nextsteps.dev.s360.is
X-WR-CALDESC:Events for Next Steps Idaho
BEGIN:VTIMEZONE
TZID:America/Boise
BEGIN:DAYLIGHT
TZOFFSETFROM:-0700
TZOFFSETTO:-0600
TZNAME:MDT
DTSTART:20180311T090000
END:DAYLIGHT
BEGIN:STANDARD
TZOFFSETFROM:-0600
TZOFFSETTO:-0700
TZNAME:MST
DTSTART:20181104T080000
END:STANDARD
END:VTIMEZONE
BEGIN:VEVENT
DTSTART;TZID=America/Boise:20181106T180000
DTEND;TZID=America/Boise:20181106T200000
DTSTAMP:20260422T024928
CREATED:20180913T201545Z
LAST-MODIFIED:20180913T201545Z
UID:4171-1541527200-1541534400@nextsteps.dev.s360.is
SUMMARY:Spokane National College Fair (PM)
DESCRIPTION:Free and open to the public\, NACAC fairs connect you to hundreds of colleges and universities in one location. Join us at a 2018 National College Fair in your area. \n
URL:https://nextsteps.dev.s360.is/event/spokane-national-college-fair-pm/
LOCATION:Spokane Convention Center\, 334 W Spokane Falls Blvd\, Spokane\, 99201
CATEGORIES:College Fair
ORGANIZER;CN="NACAC":MAILTO:collegefairs@nacacnet.org
GEO:47.6605643;-117.4168229
X-APPLE-STRUCTURED-LOCATION;VALUE=URI;X-ADDRESS=Spokane Convention Center 334 W Spokane Falls Blvd Spokane 99201;X-APPLE-RADIUS=500;X-TITLE=334 W Spokane Falls Blvd:geo:-117.4168229,47.6605643
END:VEVENT
END:VCALENDAR