BEGIN:VCALENDAR
VERSION:2.0
PRODID:-//Next Steps Idaho - ECPv5.1.4//NONSGML v1.0//EN
CALSCALE:GREGORIAN
METHOD:PUBLISH
X-WR-CALNAME:Next Steps Idaho
X-ORIGINAL-URL:https://nextsteps.dev.s360.is
X-WR-CALDESC:Events for Next Steps Idaho
BEGIN:VTIMEZONE
TZID:America/Boise
BEGIN:DAYLIGHT
TZOFFSETFROM:-0700
TZOFFSETTO:-0600
TZNAME:MDT
DTSTART:20180311T090000
END:DAYLIGHT
BEGIN:STANDARD
TZOFFSETFROM:-0600
TZOFFSETTO:-0700
TZNAME:MST
DTSTART:20181104T080000
END:STANDARD
END:VTIMEZONE
BEGIN:VEVENT
DTSTART;TZID=America/Boise:20181108T180000
DTEND;TZID=America/Boise:20181108T200000
DTSTAMP:20260422T055307
CREATED:20180913T202446Z
LAST-MODIFIED:20181018T215938Z
UID:4198-1541700000-1541707200@nextsteps.dev.s360.is
SUMMARY:Meet the Vandals
DESCRIPTION:An Event that Brings the University of Idaho to You: If you’ve been admitted to the University of Idaho\, or even if you’re still exploring us\, Meet the Vandals is a great way for you and your family to get to know us better\, without having to travel far from home. \n
URL:https://nextsteps.dev.s360.is/event/meet-the-vandals-4/
LOCATION:Boise Centre East\, 850 W. Front St\, Boise\, 83702
CATEGORIES:Open House Days
ORGANIZER;CN="University%20of%20Idaho":MAILTO:admissions@uidaho.edu
GEO:43.6148441;-116.2050767
X-APPLE-STRUCTURED-LOCATION;VALUE=URI;X-ADDRESS=Boise Centre East 850 W. Front St Boise 83702;X-APPLE-RADIUS=500;X-TITLE=850 W. Front St:geo:-116.2050767,43.6148441
END:VEVENT
END:VCALENDAR