BEGIN:VCALENDAR
VERSION:2.0
PRODID:-//Next Steps Idaho - ECPv5.1.4//NONSGML v1.0//EN
CALSCALE:GREGORIAN
METHOD:PUBLISH
X-WR-CALNAME:Next Steps Idaho
X-ORIGINAL-URL:https://nextsteps.dev.s360.is
X-WR-CALDESC:Events for Next Steps Idaho
BEGIN:VTIMEZONE
TZID:America/Boise
BEGIN:DAYLIGHT
TZOFFSETFROM:-0700
TZOFFSETTO:-0600
TZNAME:MDT
DTSTART:20180311T090000
END:DAYLIGHT
BEGIN:STANDARD
TZOFFSETFROM:-0600
TZOFFSETTO:-0700
TZNAME:MST
DTSTART:20181104T080000
END:STANDARD
END:VTIMEZONE
BEGIN:VEVENT
DTSTART;TZID=America/Boise:20181109T080000
DTEND;TZID=America/Boise:20181109T170000
DTSTAMP:20260422T073330
CREATED:20180823T201004Z
LAST-MODIFIED:20180823T201004Z
UID:4104-1541750400-1541782800@nextsteps.dev.s360.is
SUMMARY:LCSC Warrior Discovery Day
DESCRIPTION:Discovery Day is a preview event for high school juniors and seniors. Come see for yourself what makes LCSC unique. Meet our professors and current students\, tour campus\, learn about student clubs and activities\, and win prizes/scholarships. Parents/family members are welcome to attend!* \n
URL:https://nextsteps.dev.s360.is/event/lcsc-warrior-discovery-day-2/
LOCATION:Lewis-Clark State College\, 500 8th Ave.\, Lewiston\, 83501
CATEGORIES:Open House Days
ORGANIZER;CN="Lewis%20Clark%20State%20College%20-%20Admissions%20Office":MAILTO:admissions@lcsc.edu
GEO:46.412247;-117.027928
X-APPLE-STRUCTURED-LOCATION;VALUE=URI;X-ADDRESS=Lewis-Clark State College 500 8th Ave. Lewiston 83501;X-APPLE-RADIUS=500;X-TITLE=500 8th Ave.:geo:-117.027928,46.412247
END:VEVENT
END:VCALENDAR