BEGIN:VCALENDAR
VERSION:2.0
PRODID:-//Next Steps Idaho - ECPv5.1.4//NONSGML v1.0//EN
CALSCALE:GREGORIAN
METHOD:PUBLISH
X-WR-CALNAME:Next Steps Idaho
X-ORIGINAL-URL:https://nextsteps.dev.s360.is
X-WR-CALDESC:Events for Next Steps Idaho
BEGIN:VTIMEZONE
TZID:America/Boise
BEGIN:DAYLIGHT
TZOFFSETFROM:-0700
TZOFFSETTO:-0600
TZNAME:MDT
DTSTART:20190310T090000
END:DAYLIGHT
BEGIN:STANDARD
TZOFFSETFROM:-0600
TZOFFSETTO:-0700
TZNAME:MST
DTSTART:20191103T080000
END:STANDARD
END:VTIMEZONE
BEGIN:VEVENT
DTSTART;VALUE=DATE:20190301
DTEND;VALUE=DATE:20190302
DTSTAMP:20260422T042143
CREATED:20180823T200430Z
LAST-MODIFIED:20180823T200430Z
UID:4116-1551398400-1551484799@nextsteps.dev.s360.is
SUMMARY:LCSC Priority Deadline
DESCRIPTION:Submit your application materials by March 1 for priority consideration for some scholarship and registration. \n
URL:https://nextsteps.dev.s360.is/event/lcsc-priority-deadline/
LOCATION:Lewis-Clark State College\, 500 8th Ave.\, Lewiston\, 83501
CATEGORIES:Admissions Deadlines,Scholarship Deadlines
ORGANIZER;CN="Lewis%20Clark%20State%20College%20-%20Admissions%20Office":MAILTO:admissions@lcsc.edu
GEO:46.412247;-117.027928
X-APPLE-STRUCTURED-LOCATION;VALUE=URI;X-ADDRESS=Lewis-Clark State College 500 8th Ave. Lewiston 83501;X-APPLE-RADIUS=500;X-TITLE=500 8th Ave.:geo:-117.027928,46.412247
END:VEVENT
END:VCALENDAR