BEGIN:VCALENDAR
VERSION:2.0
PRODID:-//Next Steps Idaho - ECPv5.1.4//NONSGML v1.0//EN
CALSCALE:GREGORIAN
METHOD:PUBLISH
X-WR-CALNAME:Next Steps Idaho
X-ORIGINAL-URL:https://nextsteps.dev.s360.is
X-WR-CALDESC:Events for Next Steps Idaho
BEGIN:VTIMEZONE
TZID:America/Boise
BEGIN:DAYLIGHT
TZOFFSETFROM:-0700
TZOFFSETTO:-0600
TZNAME:MDT
DTSTART:20190310T090000
END:DAYLIGHT
BEGIN:STANDARD
TZOFFSETFROM:-0600
TZOFFSETTO:-0700
TZNAME:MST
DTSTART:20191103T080000
END:STANDARD
END:VTIMEZONE
BEGIN:VEVENT
DTSTART;TZID=America/Boise:20191008T180000
DTEND;TZID=America/Boise:20191008T193000
DTSTAMP:20260425T112754
CREATED:20190926T175145Z
LAST-MODIFIED:20191001T221639Z
UID:4930-1570557600-1570563000@nextsteps.dev.s360.is
SUMMARY:Lewiston - Next Steps Month Community Event
DESCRIPTION:Come learn all about your post-graduation options at Next Steps Month community events! These events will feature booths to explore\, tons of helpful tips and tricks\, and a prize drawing. \nHere’s the agenda for the events:\n· 6:00-6:15 Welcome\n· 6:15-7:30 Walk around booths\n· 7:30 IDeal 529 prize drawing \n
URL:https://nextsteps.dev.s360.is/event/lcsc-next-steps-month-community-event/
LOCATION:Lewis-Clark State College\, 500 8th Ave\, Lewiston\, ID\, 83501
CATEGORIES:Career Exploration
ORGANIZER;CN="State%20Board%20of%20Education":MAILTO:sara.scudder@osbe.idaho.gov
END:VEVENT
END:VCALENDAR