BEGIN:VCALENDAR
VERSION:2.0
PRODID:-//Next Steps Idaho - ECPv5.1.4//NONSGML v1.0//EN
CALSCALE:GREGORIAN
METHOD:PUBLISH
X-WR-CALNAME:Next Steps Idaho
X-ORIGINAL-URL:https://nextsteps.dev.s360.is
X-WR-CALDESC:Events for Next Steps Idaho
BEGIN:VTIMEZONE
TZID:America/Boise
BEGIN:DAYLIGHT
TZOFFSETFROM:-0700
TZOFFSETTO:-0600
TZNAME:MDT
DTSTART:20160313T090000
END:DAYLIGHT
BEGIN:STANDARD
TZOFFSETFROM:-0600
TZOFFSETTO:-0700
TZNAME:MST
DTSTART:20161106T080000
END:STANDARD
END:VTIMEZONE
BEGIN:VEVENT
DTSTART;VALUE=DATE:20160215
DTEND;VALUE=DATE:20160216
DTSTAMP:20260422T104609
CREATED:20150701T014346Z
LAST-MODIFIED:20171108T180933Z
UID:877-1455494400-1455580799@nextsteps.dev.s360.is
SUMMARY:Governor's Cup Scholarship Application Deadline
DESCRIPTION:The Idaho Governor’s Cup Scholarship provides approximately 25 awards\, depending on funding\, to Idaho high school seniors planning to attend an Idaho college or university. \nThe number of awards is conditional on the availability of funds. Awards will be available to scholars pursuing academic and professional-technical education. This is a $3\,000 award\, renewable up to four years for academic programs and up to three years for professional-technical programs. \nEligibility: \nTo qualify for the scholarship\, a student must meet all of the following criteria: \n\nBe a resident of Idaho\nBe a graduating senior of an Idaho high school\nEnroll as a full-time student in an academic or technical program at an Idaho college or university (and take the ACT or SAT if enrolling in an academic program)\nHave a cumulative GPA of 2.8 or above\nAttend the first semester of college following graduation\nWrite a 500-word personal essay about your goals and interests\nHigh consideration for selection will be based on a demonstrated commitment to public service. Documentation of volunteer work\, leadership\, and public service is required.\n\n
URL:https://nextsteps.dev.s360.is/event/governors-cup-scholarship-application-deadline/
CATEGORIES:Scholarship Deadlines
ORGANIZER;CN="Idaho%20State%20Board%20of%20Education":MAILTO:board@osbe.idaho.gov
END:VEVENT
END:VCALENDAR