BEGIN:VCALENDAR
VERSION:2.0
PRODID:-//Next Steps Idaho - ECPv5.1.4//NONSGML v1.0//EN
CALSCALE:GREGORIAN
METHOD:PUBLISH
X-WR-CALNAME:Next Steps Idaho
X-ORIGINAL-URL:https://nextsteps.dev.s360.is
X-WR-CALDESC:Events for Next Steps Idaho
BEGIN:VTIMEZONE
TZID:America/Boise
BEGIN:DAYLIGHT
TZOFFSETFROM:-0700
TZOFFSETTO:-0600
TZNAME:MDT
DTSTART:20190310T090000
END:DAYLIGHT
BEGIN:STANDARD
TZOFFSETFROM:-0600
TZOFFSETTO:-0700
TZNAME:MST
DTSTART:20191103T080000
END:STANDARD
END:VTIMEZONE
BEGIN:VEVENT
DTSTART;TZID=America/Boise:20190301T090000
DTEND;TZID=America/Boise:20190301T143000
DTSTAMP:20260422T042944
CREATED:20181018T223407Z
LAST-MODIFIED:20181018T223407Z
UID:4418-1551430800-1551450600@nextsteps.dev.s360.is
SUMMARY:Dream It. Do It...Here 2019 Youth Conference
DESCRIPTION:Lewis-Clark State College and regional partners are hosting the 3rd annual\, Dream It. Do It…Here Youth Conference. The conference is for up to 500\, 11th Grade Students from one of the sixteen school districts in Region II (Latah\, Lewis\, Idaho\, Clearwater\, and Nez Perce counties). Students and counselors will experience a day of local industry breakout sessions to learn about the local job market and future career options in manufacturing\, healthcare\, skilled trades\, technology\, transportation\, hospitality\, legal\, and finance. \n
URL:https://nextsteps.dev.s360.is/event/dream-it-do-it-here-2019-youth-conference/
LOCATION:Dream It. Do It…Here 2019 Youth Conference\, Lewis-Clark State College\, 500 8th Avenue\, Lewiston\, 83501
ATTACH;FMTTYPE=image/jpeg:https://nextsteps.dev.s360.is/wp-content/uploads/2018/10/northwest-intermountain.jpg
ORGANIZER;CN="Clearwater%20Economic%20Development%20Association":MAILTO:cfrei@clearwater-eda.org
END:VEVENT
END:VCALENDAR