BEGIN:VCALENDAR
VERSION:2.0
PRODID:-//Next Steps Idaho - ECPv5.1.4//NONSGML v1.0//EN
CALSCALE:GREGORIAN
METHOD:PUBLISH
X-WR-CALNAME:Next Steps Idaho
X-ORIGINAL-URL:https://nextsteps.dev.s360.is
X-WR-CALDESC:Events for Next Steps Idaho
BEGIN:VTIMEZONE
TZID:America/Boise
BEGIN:DAYLIGHT
TZOFFSETFROM:-0700
TZOFFSETTO:-0600
TZNAME:MDT
DTSTART:20190310T090000
END:DAYLIGHT
BEGIN:STANDARD
TZOFFSETFROM:-0600
TZOFFSETTO:-0700
TZNAME:MST
DTSTART:20191103T080000
END:STANDARD
END:VTIMEZONE
BEGIN:VEVENT
DTSTART;VALUE=DATE:20190119
DTEND;VALUE=DATE:20190120
DTSTAMP:20260422T061529
CREATED:20180913T202844Z
LAST-MODIFIED:20180913T202844Z
UID:4210-1547856000-1547942399@nextsteps.dev.s360.is
SUMMARY:Discover Boise State
DESCRIPTION:Discover Boise State is designed to help you discover Boise State University for yourself. Take a campus tour\, learn about campus life\, scholarship opportunities and hear from your academic area. Did we mention you can even tour the blue football field? \n
URL:https://nextsteps.dev.s360.is/event/discover-boise-state-2/
LOCATION:Boise State University\, 1910 University Dr.\, Boise\, 83725-1320
CATEGORIES:Open House Days
ORGANIZER;CN="Boise%20State%20Admissions":MAILTO:admissions@boisestate.edu
GEO:43.6049685;-116.2067524
X-APPLE-STRUCTURED-LOCATION;VALUE=URI;X-ADDRESS=Boise State University 1910 University Dr. Boise 83725-1320;X-APPLE-RADIUS=500;X-TITLE=1910 University Dr.:geo:-116.2067524,43.6049685
END:VEVENT
END:VCALENDAR