BEGIN:VCALENDAR
VERSION:2.0
PRODID:-//Next Steps Idaho - ECPv5.1.4//NONSGML v1.0//EN
CALSCALE:GREGORIAN
METHOD:PUBLISH
X-WR-CALNAME:Next Steps Idaho
X-ORIGINAL-URL:https://nextsteps.dev.s360.is
X-WR-CALDESC:Events for Next Steps Idaho
BEGIN:VTIMEZONE
TZID:America/Boise
BEGIN:DAYLIGHT
TZOFFSETFROM:-0700
TZOFFSETTO:-0600
TZNAME:MDT
DTSTART:20180311T090000
END:DAYLIGHT
BEGIN:STANDARD
TZOFFSETFROM:-0600
TZOFFSETTO:-0700
TZNAME:MST
DTSTART:20181104T080000
END:STANDARD
END:VTIMEZONE
BEGIN:VEVENT
DTSTART;TZID=America/Boise:20181031T090000
DTEND;TZID=America/Boise:20181031T140000
DTSTAMP:20260422T171828
CREATED:20180816T211314Z
LAST-MODIFIED:20180816T211401Z
UID:4042-1540976400-1540994400@nextsteps.dev.s360.is
SUMMARY:Boise National College Fair Morning Session
DESCRIPTION:Free and open to the public\, National College Fairs are the perfect place to kick off your college search. \nAdmission representatives from schools across the country are all gathered in one place. Their goal: To encourage you to learn more about their institutions\, and help you sort through the qualities you’re looking for in a college. \nUse your visit to: \n\nExplore your options. Each fair draws representatives from 175 to 400 colleges. The schools are located throughout the US\, and from around the globe.\nAsk questions. What’s college life like? What majors are popular on campus? Chatting with representatives from a variety of colleges can help you cement your own preferences.\nGather information. Pick up brochures and other materials about the schools that interest you. Ask admission reps to scan your barcode—an easy way to help colleges follow up with you after the fair.\n\n
URL:https://nextsteps.dev.s360.is/event/boise-national-college-fair-morning-session/
LOCATION:Expo Idaho\, 5610 N Glenwood St\, Boise\, ID\, 83714\, United States
CATEGORIES:College Fair
GEO:43.6500649;-116.2726011
X-APPLE-STRUCTURED-LOCATION;VALUE=URI;X-ADDRESS=Expo Idaho 5610 N Glenwood St Boise ID 83714 United States;X-APPLE-RADIUS=500;X-TITLE=5610 N Glenwood St:geo:-116.2726011,43.6500649
END:VEVENT
END:VCALENDAR