BEGIN:VCALENDAR
VERSION:2.0
PRODID:-//Next Steps Idaho - ECPv5.1.4//NONSGML v1.0//EN
CALSCALE:GREGORIAN
METHOD:PUBLISH
X-WR-CALNAME:Next Steps Idaho
X-ORIGINAL-URL:https://nextsteps.dev.s360.is
X-WR-CALDESC:Events for Next Steps Idaho
BEGIN:VTIMEZONE
TZID:America/Boise
BEGIN:DAYLIGHT
TZOFFSETFROM:-0700
TZOFFSETTO:-0600
TZNAME:MDT
DTSTART:20180311T090000
END:DAYLIGHT
BEGIN:STANDARD
TZOFFSETFROM:-0600
TZOFFSETTO:-0700
TZNAME:MST
DTSTART:20181104T080000
END:STANDARD
END:VTIMEZONE
BEGIN:VEVENT
DTSTART;TZID=America/Boise:20181113T180000
DTEND;TZID=America/Boise:20181113T210000
DTSTAMP:20260422T073402
CREATED:20180913T201859Z
LAST-MODIFIED:20181018T220314Z
UID:4177-1542132000-1542142800@nextsteps.dev.s360.is
SUMMARY:Avanza - University of Idaho
DESCRIPTION:We invite students and parents to learn more about the University of Idaho\, as well as the College Assistance Migrant Program (CAMP). U of I staff and alumni will assist you with the application for admission and provide information on financing your education. We look forward to meeting you! \nInvitamos a padres y sus estudiantes a venir a informarse más sobre la Universidad de Idaho y programas como El Programa de Asistencia Universitaria para Estudiantes Migrantes (CAMP). Estudiantes támbien aplicaran a la universidad y recibiran información sobre como financiar su educación. ¡Los Esperamos! \n
URL:https://nextsteps.dev.s360.is/event/avanza-university-of-idaho/
LOCATION:Vallivue High School\, 1407 E. Homedale Rd\, Caldwell\, 83607
CATEGORIES:Open House Days
ORGANIZER;CN="University%20of%20Idaho":MAILTO:admissions@uidaho.edu
GEO:43.6198692;-116.6804746
X-APPLE-STRUCTURED-LOCATION;VALUE=URI;X-ADDRESS=Vallivue High School 1407 E. Homedale Rd Caldwell 83607;X-APPLE-RADIUS=500;X-TITLE=1407 E. Homedale Rd:geo:-116.6804746,43.6198692
END:VEVENT
END:VCALENDAR