BEGIN:VCALENDAR
VERSION:2.0
PRODID:-//Next Steps Idaho - ECPv5.1.4//NONSGML v1.0//EN
CALSCALE:GREGORIAN
METHOD:PUBLISH
X-WR-CALNAME:Next Steps Idaho
X-ORIGINAL-URL:https://nextsteps.dev.s360.is
X-WR-CALDESC:Events for Next Steps Idaho
BEGIN:VTIMEZONE
TZID:America/Boise
BEGIN:DAYLIGHT
TZOFFSETFROM:-0700
TZOFFSETTO:-0600
TZNAME:MDT
DTSTART:20190310T090000
END:DAYLIGHT
BEGIN:STANDARD
TZOFFSETFROM:-0600
TZOFFSETTO:-0700
TZNAME:MST
DTSTART:20191103T080000
END:STANDARD
END:VTIMEZONE
BEGIN:VEVENT
DTSTART;TZID=America/Boise:20190227T083000
DTEND;TZID=America/Boise:20190227T153000
DTSTAMP:20260422T012253
CREATED:20190123T181222Z
LAST-MODIFIED:20190123T181222Z
UID:4585-1551256200-1551281400@nextsteps.dev.s360.is
SUMMARY:Advanced Opportunities Student Readiness Symposium - Twin Falls
DESCRIPTION:The Student Readiness Symposiums are designed to equip attendees with engaging\, dynamic practices that foster a culture of post-secondary possibilities\, and maximize student-advising efforts. This event will feature strategies focused on school-wide strategies that engage all students in college and career readiness exploration. This year\, school counselor\, career advisors\, and building administrators are invited to bring their teams to explore how they can reach all students through these efforts. Meals will not be provided\, however ample time will be given for attendees to get lunch. \nCoeur d’Alene: February 21st\nBoise: February 25th\nIdaho Falls: February 26th\nTwin Falls: February 27th \n
URL:https://nextsteps.dev.s360.is/event/advanced-opportunities-student-readiness-symposium-twin-falls/
LOCATION:College of Southern Idaho\, 315 Falls Avenue\, Twin Falls\, ID\, ID\, 83303\, United States
CATEGORIES:Educator Support
ORGANIZER;CN="Tina%20Polishchuk":MAILTO:jhilton@sde.idaho.gov
GEO:42.5815334;-114.4727551
X-APPLE-STRUCTURED-LOCATION;VALUE=URI;X-ADDRESS=College of Southern Idaho 315 Falls Avenue Twin Falls ID ID 83303 United States;X-APPLE-RADIUS=500;X-TITLE=315 Falls Avenue:geo:-114.4727551,42.5815334
END:VEVENT
END:VCALENDAR