BEGIN:VCALENDAR
VERSION:2.0
PRODID:-//Next Steps Idaho - ECPv5.1.4//NONSGML v1.0//EN
CALSCALE:GREGORIAN
METHOD:PUBLISH
X-WR-CALNAME:Next Steps Idaho
X-ORIGINAL-URL:https://nextsteps.dev.s360.is
X-WR-CALDESC:Events for Next Steps Idaho
BEGIN:VTIMEZONE
TZID:America/Boise
BEGIN:DAYLIGHT
TZOFFSETFROM:-0700
TZOFFSETTO:-0600
TZNAME:MDT
DTSTART:20190310T090000
END:DAYLIGHT
BEGIN:STANDARD
TZOFFSETFROM:-0600
TZOFFSETTO:-0700
TZNAME:MST
DTSTART:20191103T080000
END:STANDARD
END:VTIMEZONE
BEGIN:VEVENT
DTSTART;TZID=America/Boise:20190123T170000
DTEND;TZID=America/Boise:20190123T193000
DTSTAMP:20260422T061640
CREATED:20190122T230248Z
LAST-MODIFIED:20190122T230248Z
UID:4547-1548262800-1548271800@nextsteps.dev.s360.is
SUMMARY:2019 Health Professions Expo
DESCRIPTION:Do you want to learn more about the hottest growing jobs? Then be sure to attend the 2019 Health\nProfessions Expo on Wednesday\, January 23\, 2019. That’s when you’ll learn from nurses\, emergency personnel\, veterinarians\, doctors\, radiologists\, medical school students\, university representatives and more about what it takes to successfully pursue a career in health care. \n
URL:https://nextsteps.dev.s360.is/event/2019-health-professions-expo/
LOCATION:Dennis Technical Education Center Annex\, 3324 S. Pro Tech Dr.\, Boise\, 83709
ORGANIZER;CN="Boise%20School%20District":MAILTO:ann.farris@boiseschools.org
END:VEVENT
END:VCALENDAR